BEGIN:VCALENDAR
VERSION:2.0
PRODID:-//TRAHC - ECPv6.15.20//NONSGML v1.0//EN
CALSCALE:GREGORIAN
METHOD:PUBLISH
X-WR-CALNAME:TRAHC
X-ORIGINAL-URL:https://trahc.org
X-WR-CALDESC:Events for TRAHC
REFRESH-INTERVAL;VALUE=DURATION:PT1H
X-Robots-Tag:noindex
X-PUBLISHED-TTL:PT1H
BEGIN:VTIMEZONE
TZID:America/Chicago
BEGIN:DAYLIGHT
TZOFFSETFROM:-0600
TZOFFSETTO:-0500
TZNAME:CDT
DTSTART:20250309T080000
END:DAYLIGHT
BEGIN:STANDARD
TZOFFSETFROM:-0500
TZOFFSETTO:-0600
TZNAME:CST
DTSTART:20251102T070000
END:STANDARD
BEGIN:DAYLIGHT
TZOFFSETFROM:-0600
TZOFFSETTO:-0500
TZNAME:CDT
DTSTART:20260308T080000
END:DAYLIGHT
BEGIN:STANDARD
TZOFFSETFROM:-0500
TZOFFSETTO:-0600
TZNAME:CST
DTSTART:20261101T070000
END:STANDARD
BEGIN:DAYLIGHT
TZOFFSETFROM:-0600
TZOFFSETTO:-0500
TZNAME:CDT
DTSTART:20270314T080000
END:DAYLIGHT
BEGIN:STANDARD
TZOFFSETFROM:-0500
TZOFFSETTO:-0600
TZNAME:CST
DTSTART:20271107T070000
END:STANDARD
END:VTIMEZONE
BEGIN:VEVENT
DTSTART;TZID=America/Chicago:20260628T130000
DTEND;TZID=America/Chicago:20260628T160000
DTSTAMP:20260421T045515
CREATED:20260413T155103Z
LAST-MODIFIED:20260413T155103Z
UID:5614-1782651600-1782662400@trahc.org
SUMMARY:Bluebonnet Sun Catcher with Kathy Madison
DESCRIPTION:Glass artist Kathy Madison (A Glass Act Creations)\, along with her daughter Rachael\, will guide students in designing and completing a 5″ x 7″ hanging bluebonnet sun catcher! 💙 \nThis class will meet Sunday\, June 28 from 1-4pm in the Calhoun Studio at TRAHC’s ArtSpace (518 Pine Street\, Texarkana\, TX 75501). \nDuring this class\, students will work with Kathy on the design of their art piece\, but the finishing steps of the project will be completed/fired by the instructor. The three designs on the cover image are examples of what students may make during the class. Each piece will also have a glass strip at the top with a chain for hanging on a wall or window. \nRegister \nStudents are expected to return to the ArtSpace for pickup upon notification. Items will be available for pickup 4-5 days after the class. Materials\, tools\, and safety gear are provided by the artist and TRAHC. Tuition is nonrefundable unless less than 9 individuals register. This course is open to individuals 10+; however\, individuals under 16 must have a parent accompany them. \nIndividuals are encouraged to register at least one week before the class\, so the artist has time to prepare an appropriate amount of materials.
URL:https://trahc.org/event/bluebonnet-sun-catcher-with-kathy-madison/
LOCATION:TRAHC’s ArtSpace at 518 Pine\, 518 Pine St\, Texarkana\, 75501\, United States
CATEGORIES:Classes
ATTACH;FMTTYPE=image/jpeg:https://trahc.org/wp-content/uploads/IMG_3995-scaled.jpg
END:VEVENT
END:VCALENDAR