BEGIN:VCALENDAR
VERSION:2.0
PRODID:-//TRAHC - ECPv6.15.20//NONSGML v1.0//EN
CALSCALE:GREGORIAN
METHOD:PUBLISH
X-WR-CALNAME:TRAHC
X-ORIGINAL-URL:https://trahc.org
X-WR-CALDESC:Events for TRAHC
REFRESH-INTERVAL;VALUE=DURATION:PT1H
X-Robots-Tag:noindex
X-PUBLISHED-TTL:PT1H
BEGIN:VTIMEZONE
TZID:America/Chicago
BEGIN:DAYLIGHT
TZOFFSETFROM:-0600
TZOFFSETTO:-0500
TZNAME:CDT
DTSTART:20250309T080000
END:DAYLIGHT
BEGIN:STANDARD
TZOFFSETFROM:-0500
TZOFFSETTO:-0600
TZNAME:CST
DTSTART:20251102T070000
END:STANDARD
BEGIN:DAYLIGHT
TZOFFSETFROM:-0600
TZOFFSETTO:-0500
TZNAME:CDT
DTSTART:20260308T080000
END:DAYLIGHT
BEGIN:STANDARD
TZOFFSETFROM:-0500
TZOFFSETTO:-0600
TZNAME:CST
DTSTART:20261101T070000
END:STANDARD
BEGIN:DAYLIGHT
TZOFFSETFROM:-0600
TZOFFSETTO:-0500
TZNAME:CDT
DTSTART:20270314T080000
END:DAYLIGHT
BEGIN:STANDARD
TZOFFSETFROM:-0500
TZOFFSETTO:-0600
TZNAME:CST
DTSTART:20271107T070000
END:STANDARD
END:VTIMEZONE
BEGIN:VEVENT
DTSTART;TZID=America/Chicago:20260108T150000
DTEND;TZID=America/Chicago:20260129T170000
DTSTAMP:20260419T123425
CREATED:20251217T175506Z
LAST-MODIFIED:20251217T175506Z
UID:5445-1767884400-1769706000@trahc.org
SUMMARY:January Afternoons Wheel Throwing
DESCRIPTION:This 4-part class\, led by instructor John Delafield\, will guide students on an introduction to wheel throwing\, including wedging\, pulling/lifting\, creating handles\, centering\, and glazing. This class will meet on four dates in January: \n\nThursday 1/8 (throwing)\nThursday 1/15 (throwing)\nThursday 1/22 (finishing and glazing) and \nThursday 1/29 (glazing)\n\nRegister \nMeeting times are 3-5pm each day that class meets. Students are also encouraged to wear clothes that are suitable for working with clay.  \nThis class is $275 and materials and clay/materials/tools are provided by the artist and TRAHC. Tuition is refundable only if less than 5 individuals register. This class will meet in the Clay Eichler Ceramics Studio in TRAHC’s ArtSpace (518 Pine Street\, Texarkana\, TX). For additional questions\, please email marcusz@trahc.wpenginepowered.com. Items left 60 days after pickup notification will be discarded. 
URL:https://trahc.org/event/january-afternoons-wheel-throwing/
LOCATION:TRAHC’s ArtSpace at 518 Pine\, 518 Pine St\, Texarkana\, 75501\, United States
CATEGORIES:Classes
ATTACH;FMTTYPE=image/jpeg:https://trahc.org/wp-content/uploads/10.14_October_SV-9-scaled.jpg
END:VEVENT
END:VCALENDAR